BEGIN:VCALENDAR
VERSION:2.0
PRODID:-//hacksw/handcal//NONSGML v1.0//EN
CALSCALE:GREGORIAN
BEGIN:VEVENT
LOCATION:Taylor Hall
DTSTART:20231012T210000Z
DTEND:20231012T213000Z
SUMMARY:Effective Study Habits and Tips
URL;VALUE=URI:
DTSTAMP:20260420T225416Z
UID:69e6f4e8ce022
END:VEVENT
END:VCALENDAR