BEGIN:VCALENDAR
VERSION:2.0
PRODID:-//hacksw/handcal//NONSGML v1.0//EN
CALSCALE:GREGORIAN
BEGIN:VEVENT
LOCATION:Booth Library
DTSTART:20260414T210000Z
DTEND:20260414T223000Z
SUMMARY:JMP Data Analysis Workshop
URL;VALUE=URI:https://eiu.libcal.com/event/16641479
DTSTAMP:20260424T074212Z
UID:69eb65247d2c3
END:VEVENT
END:VCALENDAR