BEGIN:VCALENDAR
VERSION:2.0
PRODID:-//hacksw/handcal//NONSGML v1.0//EN
CALSCALE:GREGORIAN
BEGIN:VEVENT
LOCATION:Tarble Museum of Art
DTSTART:20260326T220000Z
DTEND:20260327T000000Z
SUMMARY:2026 Art + Design Networking Night
URL;VALUE=URI:https://app.joinhandshake.com/stu/events/1792812
DTSTAMP:20260424T170524Z
UID:69ebe92481292
END:VEVENT
END:VCALENDAR