BEGIN:VCALENDAR
VERSION:2.0
PRODID:-//hacksw/handcal//NONSGML v1.0//EN
CALSCALE:GREGORIAN
BEGIN:VEVENT
LOCATION:Tarble Museum of Art
DTSTART:20260325T220000Z
DTEND:20260326T000000Z
SUMMARY:Art Speaks! w/ AJ Ainscough and Opening Reception
URL;VALUE=URI:https://www.eiu.edu/tarble/
DTSTAMP:20260424T170405Z
UID:69ebe8d586ef4
END:VEVENT
END:VCALENDAR