BEGIN:VCALENDAR
VERSION:2.0
PRODID:-//hacksw/handcal//NONSGML v1.0//EN
CALSCALE:GREGORIAN
BEGIN:VEVENT
LOCATION:Tarble Museum of Art
DTSTART:20260310T220000Z
DTEND:20260311T000000Z
SUMMARY:Art Speaks! w/ Marjorie Van Cura
URL;VALUE=URI:https://www.eiu.edu/tarble/
DTSTAMP:20260424T170501Z
UID:69ebe90da5596
END:VEVENT
END:VCALENDAR