BEGIN:VCALENDAR
VERSION:2.0
PRODID:-//hacksw/handcal//NONSGML v1.0//EN
CALSCALE:GREGORIAN
BEGIN:VEVENT
LOCATION:Tarble Museum of Art
DTSTART:20260307T190000Z
DTEND:20260307T230000Z
SUMMARY:Tarble Saturday Studio Workshop: AJ Ainscough
URL;VALUE=URI:https://www.eiu.edu/tarble/air-2025-ainscough.php
DTSTAMP:20260424T170334Z
UID:69ebe8b648e44
END:VEVENT
END:VCALENDAR