BEGIN:VCALENDAR
VERSION:2.0
PRODID:-//hacksw/handcal//NONSGML v1.0//EN
CALSCALE:GREGORIAN
BEGIN:VEVENT
LOCATION:Tarble Museum of Art
DTSTART:20260221T200000Z
DTEND:20260221T220000Z
SUMMARY:2026 EIU Undergraduate Art Exhibition Opening Reception & Awards Ceremony 
URL;VALUE=URI:https://www.eiu.edu/tarble/undergrad26.php
DTSTAMP:20260424T170421Z
UID:69ebe8e5a9210
END:VEVENT
END:VCALENDAR