BEGIN:VCALENDAR
VERSION:2.0
PRODID:-//hacksw/handcal//NONSGML v1.0//EN
CALSCALE:GREGORIAN
BEGIN:VEVENT
LOCATION:315 Lincoln Ave\, Suite 200Charleston\, IL 61920
DTSTART:20250917T000000Z
DTEND:20250916T175900Z
SUMMARY:Insomnia Cookies PJ Party
URL;VALUE=URI:https://www.insomniacookies.com
DTSTAMP:20260424T122242Z
UID:69eba6e252ad2
END:VEVENT
END:VCALENDAR